BEGIN:VCALENDAR
VERSION:2.0
PRODID:-//Associazione Nazionale Paracadutisti d&#039;Italia - Sezione di Caserta - ECPv6.15.11//NONSGML v1.0//EN
CALSCALE:GREGORIAN
METHOD:PUBLISH
X-ORIGINAL-URL:https://www.paracadutisticaserta.it
X-WR-CALDESC:Eventi per Associazione Nazionale Paracadutisti d&#039;Italia - Sezione di Caserta
REFRESH-INTERVAL;VALUE=DURATION:PT1H
X-Robots-Tag:noindex
X-PUBLISHED-TTL:PT1H
BEGIN:VTIMEZONE
TZID:Europe/Rome
BEGIN:DAYLIGHT
TZOFFSETFROM:+0100
TZOFFSETTO:+0200
TZNAME:CEST
DTSTART:20150329T010000
END:DAYLIGHT
BEGIN:STANDARD
TZOFFSETFROM:+0200
TZOFFSETTO:+0100
TZNAME:CET
DTSTART:20151025T010000
END:STANDARD
BEGIN:DAYLIGHT
TZOFFSETFROM:+0100
TZOFFSETTO:+0200
TZNAME:CEST
DTSTART:20160327T010000
END:DAYLIGHT
BEGIN:STANDARD
TZOFFSETFROM:+0200
TZOFFSETTO:+0100
TZNAME:CET
DTSTART:20161030T010000
END:STANDARD
BEGIN:DAYLIGHT
TZOFFSETFROM:+0100
TZOFFSETTO:+0200
TZNAME:CEST
DTSTART:20170326T010000
END:DAYLIGHT
BEGIN:STANDARD
TZOFFSETFROM:+0200
TZOFFSETTO:+0100
TZNAME:CET
DTSTART:20171029T010000
END:STANDARD
BEGIN:DAYLIGHT
TZOFFSETFROM:+0100
TZOFFSETTO:+0200
TZNAME:CEST
DTSTART:20180325T010000
END:DAYLIGHT
BEGIN:STANDARD
TZOFFSETFROM:+0200
TZOFFSETTO:+0100
TZNAME:CET
DTSTART:20181028T010000
END:STANDARD
BEGIN:DAYLIGHT
TZOFFSETFROM:+0100
TZOFFSETTO:+0200
TZNAME:CEST
DTSTART:20190331T010000
END:DAYLIGHT
BEGIN:STANDARD
TZOFFSETFROM:+0200
TZOFFSETTO:+0100
TZNAME:CET
DTSTART:20191027T010000
END:STANDARD
BEGIN:DAYLIGHT
TZOFFSETFROM:+0100
TZOFFSETTO:+0200
TZNAME:CEST
DTSTART:20200329T010000
END:DAYLIGHT
BEGIN:STANDARD
TZOFFSETFROM:+0200
TZOFFSETTO:+0100
TZNAME:CET
DTSTART:20201025T010000
END:STANDARD
BEGIN:DAYLIGHT
TZOFFSETFROM:+0100
TZOFFSETTO:+0200
TZNAME:CEST
DTSTART:20210328T010000
END:DAYLIGHT
BEGIN:STANDARD
TZOFFSETFROM:+0200
TZOFFSETTO:+0100
TZNAME:CET
DTSTART:20211031T010000
END:STANDARD
END:VTIMEZONE
BEGIN:VEVENT
DTSTART;VALUE=DATE:20201017
DTEND;VALUE=DATE:20201019
DTSTAMP:20260419T141441
CREATED:20201017T092802Z
LAST-MODIFIED:20201029T170804Z
UID:4860-1602892800-1603065599@www.paracadutisticaserta.it
SUMMARY:Lanci 3° Corso 2020
DESCRIPTION:
URL:https://www.paracadutisticaserta.it/event/lanci-3-corso-2020/
CATEGORIES:Lanci di abilitazione
ATTACH;FMTTYPE=image/jpeg:https://www.paracadutisticaserta.it/wp-content/uploads/2020/03/copertina_evento_lanci2.jpg
ORGANIZER;CN="ANPd'I Caserta":MAILTO:info@paracadutisticaserta.it
END:VEVENT
BEGIN:VEVENT
DTSTART;VALUE=DATE:20200901
DTEND;VALUE=DATE:20201006
DTSTAMP:20260419T141441
CREATED:20200901T155546Z
LAST-MODIFIED:20201029T170743Z
UID:4897-1598918400-1601942399@www.paracadutisticaserta.it
SUMMARY:3° Corso 2020
DESCRIPTION:
URL:https://www.paracadutisticaserta.it/event/3-corso-2020/
LOCATION:ANPd’I Caserta\, Via Cesare Battisti\, 8\, Caserta\, 81100\, Italia
CATEGORIES:Corsi
ATTACH;FMTTYPE=image/jpeg:https://www.paracadutisticaserta.it/wp-content/uploads/2020/03/copertina_evento_corso2.jpg
ORGANIZER;CN="ANPd'I Caserta":MAILTO:info@paracadutisticaserta.it
END:VEVENT
BEGIN:VEVENT
DTSTART;VALUE=DATE:20200808
DTEND;VALUE=DATE:20200810
DTSTAMP:20260419T141441
CREATED:20200808T173438Z
LAST-MODIFIED:20201029T170735Z
UID:3529-1596844800-1597017599@www.paracadutisticaserta.it
SUMMARY:Lanci 2° Corso 2020
DESCRIPTION:
URL:https://www.paracadutisticaserta.it/event/lanci-2-corso-2020/
CATEGORIES:Lanci di abilitazione
ATTACH;FMTTYPE=image/jpeg:https://www.paracadutisticaserta.it/wp-content/uploads/2020/03/copertina_evento_lanci2.jpg
ORGANIZER;CN="ANPd'I Caserta":MAILTO:info@paracadutisticaserta.it
END:VEVENT
BEGIN:VEVENT
DTSTART;VALUE=DATE:20200704
DTEND;VALUE=DATE:20200809
DTSTAMP:20260419T141441
CREATED:20200704T173119Z
LAST-MODIFIED:20201029T170726Z
UID:3525-1593820800-1596931199@www.paracadutisticaserta.it
SUMMARY:2° Corso 2020
DESCRIPTION:
URL:https://www.paracadutisticaserta.it/event/2-corso-2020/
LOCATION:ANPd’I Caserta\, Via Cesare Battisti\, 8\, Caserta\, 81100\, Italia
CATEGORIES:Corsi
ATTACH;FMTTYPE=image/jpeg:https://www.paracadutisticaserta.it/wp-content/uploads/2020/03/copertina_evento_corso2.jpg
ORGANIZER;CN="ANPd'I Caserta":MAILTO:info@paracadutisticaserta.it
END:VEVENT
BEGIN:VEVENT
DTSTART;VALUE=DATE:20200618
DTEND;VALUE=DATE:20200620
DTSTAMP:20260419T141441
CREATED:20200403T131955Z
LAST-MODIFIED:20201029T170719Z
UID:3578-1592438400-1592611199@www.paracadutisticaserta.it
SUMMARY:Lanci 1° Corso 2020
DESCRIPTION:
URL:https://www.paracadutisticaserta.it/event/lanci-1-corso-2020/
LOCATION:Aviosuperficie Falcone\, SP18\, Guadiano di Lavello\, Lavello (PZ)\, 85024\, Italia
CATEGORIES:Lanci di abilitazione
ATTACH;FMTTYPE=image/jpeg:https://www.paracadutisticaserta.it/wp-content/uploads/2020/03/copertina_evento_lanci2.jpg
ORGANIZER;CN="ANPd'I Caserta":MAILTO:info@paracadutisticaserta.it
END:VEVENT
BEGIN:VEVENT
DTSTART;VALUE=DATE:20200131
DTEND;VALUE=DATE:20200307
DTSTAMP:20260419T141441
CREATED:20200131T141744Z
LAST-MODIFIED:20201029T170708Z
UID:3576-1580428800-1583539199@www.paracadutisticaserta.it
SUMMARY:1° Corso 2020
DESCRIPTION:
URL:https://www.paracadutisticaserta.it/event/1-corso-2020/
LOCATION:ANPd’I Caserta\, Via Cesare Battisti\, 8\, Caserta\, 81100\, Italia
CATEGORIES:Corsi
ATTACH;FMTTYPE=image/jpeg:https://www.paracadutisticaserta.it/wp-content/uploads/2020/03/copertina_evento_corso2.jpg
ORGANIZER;CN="ANPd'I Caserta":MAILTO:info@paracadutisticaserta.it
END:VEVENT
BEGIN:VEVENT
DTSTART;VALUE=DATE:20191118
DTEND;VALUE=DATE:20191223
DTSTAMP:20260419T141441
CREATED:20191118T165156Z
LAST-MODIFIED:20201029T170702Z
UID:4316-1574035200-1577059199@www.paracadutisticaserta.it
SUMMARY:5° Corso 2019
DESCRIPTION:
URL:https://www.paracadutisticaserta.it/event/5-corso-2019/
LOCATION:ANPd’I Caserta\, Via Cesare Battisti\, 8\, Caserta\, 81100\, Italia
CATEGORIES:Corsi
ATTACH;FMTTYPE=image/jpeg:https://www.paracadutisticaserta.it/wp-content/uploads/2020/03/copertina_evento_corso2.jpg
ORGANIZER;CN="ANPd'I Caserta":MAILTO:info@paracadutisticaserta.it
END:VEVENT
BEGIN:VEVENT
DTSTART;VALUE=DATE:20190619
DTEND;VALUE=DATE:20190727
DTSTAMP:20260419T141441
CREATED:20190619T161029Z
LAST-MODIFIED:20201029T170651Z
UID:4319-1560902400-1564185599@www.paracadutisticaserta.it
SUMMARY:4° Corso 2019
DESCRIPTION:
URL:https://www.paracadutisticaserta.it/event/4-corso-2019/
LOCATION:ANPd’I Caserta\, Via Cesare Battisti\, 8\, Caserta\, 81100\, Italia
CATEGORIES:Corsi
ATTACH;FMTTYPE=image/jpeg:https://www.paracadutisticaserta.it/wp-content/uploads/2020/03/copertina_evento_corso2.jpg
ORGANIZER;CN="ANPd'I Caserta":MAILTO:info@paracadutisticaserta.it
END:VEVENT
BEGIN:VEVENT
DTSTART;VALUE=DATE:20190415
DTEND;VALUE=DATE:20190518
DTSTAMP:20260419T141441
CREATED:20190415T161156Z
LAST-MODIFIED:20201029T170641Z
UID:4324-1555286400-1558137599@www.paracadutisticaserta.it
SUMMARY:3° Corso 2019
DESCRIPTION:
URL:https://www.paracadutisticaserta.it/event/3-corso-2019/
LOCATION:ANPd’I Caserta\, Via Cesare Battisti\, 8\, Caserta\, 81100\, Italia
CATEGORIES:Corsi
ATTACH;FMTTYPE=image/jpeg:https://www.paracadutisticaserta.it/wp-content/uploads/2020/03/copertina_evento_corso2.jpg
ORGANIZER;CN="ANPd'I Caserta":MAILTO:info@paracadutisticaserta.it
END:VEVENT
BEGIN:VEVENT
DTSTART;VALUE=DATE:20190330
DTEND;VALUE=DATE:20190504
DTSTAMP:20260419T141441
CREATED:20190330T171832Z
LAST-MODIFIED:20201029T170632Z
UID:4327-1553904000-1556927999@www.paracadutisticaserta.it
SUMMARY:2° Corso 2019
DESCRIPTION:
URL:https://www.paracadutisticaserta.it/event/2-corso-2019/
LOCATION:ANPd’I Caserta\, Via Cesare Battisti\, 8\, Caserta\, 81100\, Italia
CATEGORIES:Corsi
ATTACH;FMTTYPE=image/jpeg:https://www.paracadutisticaserta.it/wp-content/uploads/2020/03/copertina_evento_corso2.jpg
ORGANIZER;CN="ANPd'I Caserta":MAILTO:info@paracadutisticaserta.it
END:VEVENT
BEGIN:VEVENT
DTSTART;VALUE=DATE:20190205
DTEND;VALUE=DATE:20190314
DTSTAMP:20260419T141441
CREATED:20190205T173120Z
LAST-MODIFIED:20201029T170616Z
UID:4329-1549324800-1552521599@www.paracadutisticaserta.it
SUMMARY:1° Corso 2019
DESCRIPTION:
URL:https://www.paracadutisticaserta.it/event/1-corso-2019/
LOCATION:ANPd’I Caserta\, Via Cesare Battisti\, 8\, Caserta\, 81100\, Italia
CATEGORIES:Corsi
ATTACH;FMTTYPE=image/jpeg:https://www.paracadutisticaserta.it/wp-content/uploads/2020/03/copertina_evento_corso2.jpg
ORGANIZER;CN="ANPd'I Caserta":MAILTO:info@paracadutisticaserta.it
END:VEVENT
BEGIN:VEVENT
DTSTART;VALUE=DATE:20181107
DTEND;VALUE=DATE:20181117
DTSTAMP:20260419T141441
CREATED:20181107T173252Z
LAST-MODIFIED:20201029T170604Z
UID:4331-1541548800-1542412799@www.paracadutisticaserta.it
SUMMARY:4° Corso 2018
DESCRIPTION:
URL:https://www.paracadutisticaserta.it/event/4-corso-2018/
LOCATION:ANPd’I Caserta\, Via Cesare Battisti\, 8\, Caserta\, 81100\, Italia
CATEGORIES:Corsi
ATTACH;FMTTYPE=image/jpeg:https://www.paracadutisticaserta.it/wp-content/uploads/2020/03/copertina_evento_corso2.jpg
ORGANIZER;CN="ANPd'I Caserta":MAILTO:info@paracadutisticaserta.it
END:VEVENT
BEGIN:VEVENT
DTSTART;VALUE=DATE:20180910
DTEND;VALUE=DATE:20181021
DTSTAMP:20260419T141441
CREATED:20180910T163740Z
LAST-MODIFIED:20201029T170551Z
UID:4333-1536537600-1540079999@www.paracadutisticaserta.it
SUMMARY:3° Corso 2018
DESCRIPTION:
URL:https://www.paracadutisticaserta.it/event/3-corso-2018/
LOCATION:ANPd’I Caserta\, Via Cesare Battisti\, 8\, Caserta\, 81100\, Italia
CATEGORIES:Corsi
ATTACH;FMTTYPE=image/jpeg:https://www.paracadutisticaserta.it/wp-content/uploads/2020/03/copertina_evento_corso2.jpg
ORGANIZER;CN="ANPd'I Caserta":MAILTO:info@paracadutisticaserta.it
END:VEVENT
BEGIN:VEVENT
DTSTART;VALUE=DATE:20180305
DTEND;VALUE=DATE:20180411
DTSTAMP:20260419T141441
CREATED:20180318T174220Z
LAST-MODIFIED:20201029T170538Z
UID:4335-1520208000-1523404799@www.paracadutisticaserta.it
SUMMARY:2° Corso 2018
DESCRIPTION:
URL:https://www.paracadutisticaserta.it/event/2-corso-2018/
LOCATION:ANPd’I Caserta\, Via Cesare Battisti\, 8\, Caserta\, 81100\, Italia
CATEGORIES:Corsi
ATTACH;FMTTYPE=image/jpeg:https://www.paracadutisticaserta.it/wp-content/uploads/2020/03/copertina_evento_corso2.jpg
ORGANIZER;CN="ANPd'I Caserta":MAILTO:info@paracadutisticaserta.it
END:VEVENT
BEGIN:VEVENT
DTSTART;VALUE=DATE:20180209
DTEND;VALUE=DATE:20180315
DTSTAMP:20260419T141441
CREATED:20171218T174320Z
LAST-MODIFIED:20201029T170523Z
UID:4337-1518134400-1521071999@www.paracadutisticaserta.it
SUMMARY:1° Corso 2018
DESCRIPTION:
URL:https://www.paracadutisticaserta.it/event/1-corso-2018/
LOCATION:ANPd’I Caserta\, Via Cesare Battisti\, 8\, Caserta\, 81100\, Italia
CATEGORIES:Corsi
ATTACH;FMTTYPE=image/jpeg:https://www.paracadutisticaserta.it/wp-content/uploads/2020/03/copertina_evento_corso2.jpg
ORGANIZER;CN="ANPd'I Caserta":MAILTO:info@paracadutisticaserta.it
END:VEVENT
BEGIN:VEVENT
DTSTART;VALUE=DATE:20171106
DTEND;VALUE=DATE:20171211
DTSTAMP:20260419T141441
CREATED:20171106T182007Z
LAST-MODIFIED:20201029T170511Z
UID:4339-1509926400-1512950399@www.paracadutisticaserta.it
SUMMARY:6° Corso 2017
DESCRIPTION:
URL:https://www.paracadutisticaserta.it/event/6-corso-2017/
LOCATION:ANPd’I Caserta\, Via Cesare Battisti\, 8\, Caserta\, 81100\, Italia
CATEGORIES:Corsi
ATTACH;FMTTYPE=image/jpeg:https://www.paracadutisticaserta.it/wp-content/uploads/2020/03/copertina_evento_corso2.jpg
ORGANIZER;CN="ANPd'I Caserta":MAILTO:info@paracadutisticaserta.it
END:VEVENT
BEGIN:VEVENT
DTSTART;VALUE=DATE:20170911
DTEND;VALUE=DATE:20171016
DTSTAMP:20260419T141441
CREATED:20170911T172150Z
LAST-MODIFIED:20201029T170458Z
UID:4341-1505088000-1508111999@www.paracadutisticaserta.it
SUMMARY:5° Corso 2017
DESCRIPTION:
URL:https://www.paracadutisticaserta.it/event/5-corso-2017/
LOCATION:ANPd’I Caserta\, Via Cesare Battisti\, 8\, Caserta\, 81100\, Italia
CATEGORIES:Corsi
ATTACH;FMTTYPE=image/jpeg:https://www.paracadutisticaserta.it/wp-content/uploads/2020/03/copertina_evento_corso2.jpg
ORGANIZER;CN="ANPd'I Caserta":MAILTO:info@paracadutisticaserta.it
END:VEVENT
BEGIN:VEVENT
DTSTART;VALUE=DATE:20170515
DTEND;VALUE=DATE:20170621
DTSTAMP:20260419T141441
CREATED:20170515T172242Z
LAST-MODIFIED:20201029T170448Z
UID:4343-1494806400-1498003199@www.paracadutisticaserta.it
SUMMARY:4° Corso 2017
DESCRIPTION:
URL:https://www.paracadutisticaserta.it/event/4-corso-2017/
LOCATION:ANPd’I Caserta\, Via Cesare Battisti\, 8\, Caserta\, 81100\, Italia
CATEGORIES:Corsi
ATTACH;FMTTYPE=image/jpeg:https://www.paracadutisticaserta.it/wp-content/uploads/2020/03/copertina_evento_corso2.jpg
ORGANIZER;CN="ANPd'I Caserta":MAILTO:info@paracadutisticaserta.it
END:VEVENT
BEGIN:VEVENT
DTSTART;VALUE=DATE:20170328
DTEND;VALUE=DATE:20170406
DTSTAMP:20260419T141441
CREATED:20170328T172548Z
LAST-MODIFIED:20201029T170435Z
UID:4345-1490659200-1491436799@www.paracadutisticaserta.it
SUMMARY:3° Corso 2017
DESCRIPTION:
URL:https://www.paracadutisticaserta.it/event/3-corso-2017/
LOCATION:ANPd’I Caserta\, Via Cesare Battisti\, 8\, Caserta\, 81100\, Italia
CATEGORIES:Corsi
ATTACH;FMTTYPE=image/jpeg:https://www.paracadutisticaserta.it/wp-content/uploads/2020/03/copertina_evento_corso2.jpg
ORGANIZER;CN="ANPd'I Caserta":MAILTO:info@paracadutisticaserta.it
END:VEVENT
BEGIN:VEVENT
DTSTART;VALUE=DATE:20170322
DTEND;VALUE=DATE:20170506
DTSTAMP:20260419T141441
CREATED:20170323T182700Z
LAST-MODIFIED:20201029T170419Z
UID:4347-1490140800-1494028799@www.paracadutisticaserta.it
SUMMARY:2° Corso 2017
DESCRIPTION:
URL:https://www.paracadutisticaserta.it/event/2-corso-2017/
LOCATION:ANPd’I Caserta\, Via Cesare Battisti\, 8\, Caserta\, 81100\, Italia
CATEGORIES:Corsi
ATTACH;FMTTYPE=image/jpeg:https://www.paracadutisticaserta.it/wp-content/uploads/2020/03/copertina_evento_corso2.jpg
ORGANIZER;CN="ANPd'I Caserta":MAILTO:info@paracadutisticaserta.it
END:VEVENT
BEGIN:VEVENT
DTSTART;VALUE=DATE:20170123
DTEND;VALUE=DATE:20170306
DTSTAMP:20260419T141441
CREATED:20170123T182752Z
LAST-MODIFIED:20201029T170355Z
UID:4349-1485129600-1488758399@www.paracadutisticaserta.it
SUMMARY:1° Corso 2017
DESCRIPTION:
URL:https://www.paracadutisticaserta.it/event/1-corso-2017/
LOCATION:ANPd’I Caserta\, Via Cesare Battisti\, 8\, Caserta\, 81100\, Italia
CATEGORIES:Corsi
ATTACH;FMTTYPE=image/jpeg:https://www.paracadutisticaserta.it/wp-content/uploads/2020/03/copertina_evento_corso2.jpg
ORGANIZER;CN="ANPd'I Caserta":MAILTO:info@paracadutisticaserta.it
END:VEVENT
BEGIN:VEVENT
DTSTART;VALUE=DATE:20161128
DTEND;VALUE=DATE:20170106
DTSTAMP:20260419T141441
CREATED:20161128T183318Z
LAST-MODIFIED:20201029T170337Z
UID:4351-1480291200-1483660799@www.paracadutisticaserta.it
SUMMARY:5° Corso 2016
DESCRIPTION:
URL:https://www.paracadutisticaserta.it/event/5-corso-2016/
LOCATION:ANPd’I Caserta\, Via Cesare Battisti\, 8\, Caserta\, 81100\, Italia
CATEGORIES:Corsi
ATTACH;FMTTYPE=image/jpeg:https://www.paracadutisticaserta.it/wp-content/uploads/2020/03/copertina_evento_corso2.jpg
ORGANIZER;CN="ANPd'I Caserta":MAILTO:info@paracadutisticaserta.it
END:VEVENT
END:VCALENDAR